BEGIN:VCALENDAR
VERSION:2.0
PRODID:-//CPTS Portes du Lauragais - ECPv6.15.20//NONSGML v1.0//EN
CALSCALE:GREGORIAN
METHOD:PUBLISH
X-WR-CALNAME:CPTS Portes du Lauragais
X-ORIGINAL-URL:https://www.cptsportesdulauragais.fr
X-WR-CALDESC:Évènements pour CPTS Portes du Lauragais
REFRESH-INTERVAL;VALUE=DURATION:PT1H
X-Robots-Tag:noindex
X-PUBLISHED-TTL:PT1H
BEGIN:VTIMEZONE
TZID:Europe/Paris
BEGIN:DAYLIGHT
TZOFFSETFROM:+0100
TZOFFSETTO:+0200
TZNAME:CEST
DTSTART:20250330T010000
END:DAYLIGHT
BEGIN:STANDARD
TZOFFSETFROM:+0200
TZOFFSETTO:+0100
TZNAME:CET
DTSTART:20251026T010000
END:STANDARD
BEGIN:DAYLIGHT
TZOFFSETFROM:+0100
TZOFFSETTO:+0200
TZNAME:CEST
DTSTART:20260329T010000
END:DAYLIGHT
BEGIN:STANDARD
TZOFFSETFROM:+0200
TZOFFSETTO:+0100
TZNAME:CET
DTSTART:20261025T010000
END:STANDARD
BEGIN:DAYLIGHT
TZOFFSETFROM:+0100
TZOFFSETTO:+0200
TZNAME:CEST
DTSTART:20270328T010000
END:DAYLIGHT
BEGIN:STANDARD
TZOFFSETFROM:+0200
TZOFFSETTO:+0100
TZNAME:CET
DTSTART:20271031T010000
END:STANDARD
END:VTIMEZONE
BEGIN:VEVENT
DTSTART;TZID=Europe/Paris:20260526T180000
DTEND;TZID=Europe/Paris:20260526T200000
DTSTAMP:20260423T085605
CREATED:20260415T100459Z
LAST-MODIFIED:20260415T100459Z
UID:5773-1779818400-1779825600@www.cptsportesdulauragais.fr
SUMMARY:Café des parents : harcèlement scolaire
DESCRIPTION:Harcèlement scolaire : mieux comprendre pour mieux agir. \nPour ne plus rester seuls et parce qu’il n’est pas toujours facile de savoir comment réagir\, on vous donne rendez-vous pour un moment d’échange essentiel entre parents\, enfants et professionnels. \n📅 Mardi 26 mai 2026 de 18h à 20h\n📍 Salle du Faubourg du Sers\, 8 Rte du Faubourg du Sers 31450 Montgiscard\n🎟️ Gratuit sans inscription \nIntervenants : professionnels de santé\, médiation familiale et juriste de la MDEJ. \n✅ C’est pour qui ? Les parents\, les ados dès 11 ans ainsi que tous les professionnels au contact des adolescents. \nLe petit plus : un moment d’échange convivial autour d’une collation offerte. \nVenez poser vos questions et repartir avec des outils pratiques. Ensemble\, agissons pour nos enfants !
URL:https://www.cptsportesdulauragais.fr/evenement/cafe-des-parents-harcelement-scolaire/
LOCATION:Salle du Faubourg du Sers\, 8 Rte du Faubourg du Sers 31450 Montgiscard
CATEGORIES:Nos actions
ATTACH;FMTTYPE=image/jpeg:https://www.cptsportesdulauragais.fr/wp-content/uploads/2026/04/Cafe-des-parents.jpg
END:VEVENT
END:VCALENDAR